BEGIN:VCALENDAR
VERSION:2.0
PRODID:-//Sabre//Sabre VObject 4.1.6//EN
CALSCALE:GREGORIAN
BEGIN:VEVENT
UID:sabre-vobject-2971fbdf-f07b-41c9-a68a-8a30c7fcb987
DTSTAMP:20260419T161952Z
SUMMARY:Zeit der Stille
DTSTART;TZID=Europe/Berlin:20260427T190000
DTEND;TZID=Europe/Berlin:20260427T200000
ORGANIZER;CN=Ev.-Luth. Luther-Kirchengemeinde Kiel:MAILTO:kirchenbuero@luth
 erkirche-kiel.de
LOCATION:Lutherkirche Kiel\, Schillerstraße 27\, Kiel
GEO:54.330763;10.124127
DESCRIPTION:Andacht mit Schweigemeditation
BEGIN:VALARM
TRIGGER;VALUE=DURATION:P1D
ACTION:DISPLAY
DESCRIPTION:Zeit der Stille
END:VALARM
END:VEVENT
END:VCALENDAR
