BEGIN:VCALENDAR
VERSION:2.0
PRODID:-//Sabre//Sabre VObject 4.1.6//EN
CALSCALE:GREGORIAN
BEGIN:VEVENT
UID:sabre-vobject-3fb43ac0-add6-4672-8920-13dfe550fc33
DTSTAMP:20260419T161953Z
SUMMARY:Zeit der Stille
DTSTART;TZID=Europe/Berlin:20260413T190000
DTEND;TZID=Europe/Berlin:20260413T200000
ORGANIZER;CN=Ev.-Luth. Luther-Kirchengemeinde Kiel:MAILTO:kirchenbuero@luth
 erkirche-kiel.de
LOCATION:Lutherkirche Kiel\, Schillerstraße 27\, Kiel
GEO:54.330763;10.124127
DESCRIPTION:Andacht mit Schweigemeditation
BEGIN:VALARM
TRIGGER;VALUE=DURATION:P1D
ACTION:DISPLAY
DESCRIPTION:Zeit der Stille
END:VALARM
END:VEVENT
END:VCALENDAR
