BEGIN:VCALENDAR
VERSION:2.0
PRODID:-//Sabre//Sabre VObject 4.1.6//EN
CALSCALE:GREGORIAN
BEGIN:VEVENT
UID:sabre-vobject-31f21596-aff8-44fb-83a9-15913115856e
DTSTAMP:20260419T161805Z
SUMMARY:Wing Concepts - Tactical
DTSTART;TZID=Europe/Berlin:20260413T183000
DTEND;TZID=Europe/Berlin:20260413T193000
ORGANIZER;CN=Wing Concepts Akademie Kiel:MAILTO:info@kampfkunst-akademie-ki
 el.de
LOCATION:Wing Concepts AKADEMIE Kiel\, Kiel
GEO:54.322816;10.1401754
DESCRIPTION:Tactical Training bei Wing Concepts: praxisnahes Training für 
 Einsatz- und Sicherheitskräfte für mehr Kontrolle\, Eigensicherung und H
 andlungssicherhei\nDas Tactical Training bei Wing Concepts richtet sich an
  Menschen\, die im Berufsalltag mit angespannten\, unübersichtlichen oder
  körperlich riskanten Situationen umgehen müssen. Dazu gehören unter an
 derem Sicherheitskräfte\, Mitarbeitende im Ordnungsdienst\, Einsatzkräft
 e und weitere Berufsgruppen\, bei denen Eigensicherung\, Kontrolle und sic
 heres Handeln eine wichtige Rolle spielen. Ziel ist es\, vorhandene Fähig
 keiten sinnvoll zu ergänzen\, Abläufe zu verbessern und mehr Handlungssi
 cherheit zu entwickeln. Das Tactical Training bietet eine strukturierte M
 öglichkeit\, sich körperlich und mental auf herausfordernde Situationen 
 vorzubereiten – praxisnah\, klar aufgebaut und direkt umsetzbar.
BEGIN:VALARM
TRIGGER;VALUE=DURATION:P1D
ACTION:DISPLAY
DESCRIPTION:Wing Concepts - Tactical
END:VALARM
END:VEVENT
END:VCALENDAR
