BEGIN:VCALENDAR
VERSION:2.0
PRODID:-//Sabre//Sabre VObject 4.1.6//EN
CALSCALE:GREGORIAN
BEGIN:VEVENT
UID:sabre-vobject-cec0fca5-cea9-474d-865e-e85d4c18ed81
DTSTAMP:20260419T162346Z
SUMMARY:Traditioneller Gottesdienst mit Chor
DTSTART;TZID=Europe/Berlin:20260403T100000
ORGANIZER;CN=Ev.-Luth. Kreuz-Kirchengemeinde Kiel:MAILTO:kg.kreuzkirche@alt
 holstein.de
LOCATION:Kreuzkirche Kiel\, Barkauer Straße 11\, Kiel
GEO:54.287048;10.136267
BEGIN:VALARM
TRIGGER;VALUE=DURATION:P1D
ACTION:DISPLAY
DESCRIPTION:Traditioneller Gottesdienst mit Chor
END:VALARM
END:VEVENT
END:VCALENDAR
