BEGIN:VCALENDAR
VERSION:2.0
PRODID:-//Sabre//Sabre VObject 4.1.6//EN
CALSCALE:GREGORIAN
BEGIN:VEVENT
UID:sabre-vobject-feccfa38-ca84-4884-813b-a5c9f83f0e99
DTSTAMP:20260419T162420Z
SUMMARY:Tischabendmahl am Gründonnerstag
DTSTART;TZID=Europe/Berlin:20260402T180000
ORGANIZER;CN=Ev.-Luth. Paul-Gerhardt-Kirchengemeinde Kiel-Neumühlen-Dietri
 chsdorf:MAILTO:info@pgg-kiel.de
LOCATION:Paul-Gerhardt-Kirche\, Ivensring 9\, Kiel
GEO:54.3331828;10.1888434
BEGIN:VALARM
TRIGGER;VALUE=DURATION:P1D
ACTION:DISPLAY
DESCRIPTION:Tischabendmahl am Gründonnerstag
END:VALARM
END:VEVENT
END:VCALENDAR
