BEGIN:VCALENDAR
VERSION:2.0
PRODID:-//Sabre//Sabre VObject 4.1.6//EN
CALSCALE:GREGORIAN
BEGIN:VEVENT
UID:sabre-vobject-e6366ce4-1d64-4f27-9df3-f9699d16aa15
DTSTAMP:20260419T162706Z
SUMMARY:Theater hEXagon zeigt: »DU BLÖDE FINSTERNIS!« von Sam Steiner
DTSTART;TZID=Europe/Berlin:20260408T200000
ORGANIZER;CN=Hansastrasse 48 e.V.:MAILTO:info@hansa48.de
LOCATION:Hansa 48 - Saal\, Hansastraße 48\, Kiel (Ravensberg - Brunswik - 
 Düsternbrook)
GEO:54.3352552;10.1273732
DESCRIPTION:\nDie Welt bricht zusammen: Dauerregen\, einstürzende Brücken
 \, Stromausfälle – sogar der Kaffeekocher explodiert im denkbar schlech
 testen Moment. Und alle nehmen es hin.\nAlle? Nein! Eine kleine Gruppe Ehr
 enamtlicher hält stand – jede Dienstagnacht bei »Brightline«\, der Te
 lefonseelsorge. Der junge Joey wird ohne Umschweife ins kalte Wasser gewor
 fen und merkt schnell: Hier läuft nichts\, wie er es sich vorgestellt hat
 . Seine Kolleginnen und Kollegen? Engagiert\, aber jeder bringt seine eige
 nen Probleme und Herausforde-rungen mit.\nIn ihrem bröckelnden Keller lau
 schen sie Tragödien\, Skurrilitäten und absurden Geständnissen. Sie tri
 nken kalten Kaf-fee\, essen zu viele Donuts\, ertragen Obszönitäten\, fr
 eunden sich mit den Menschen am anderen Ende der Leitung an – oder keife
 n zurück. Doch eines tun sie nie: Aufgeben. Schon gar nicht wegen der bl
 öden Finsternis!\n\nSam Steiners kurzweilige Tragikomödie über Resilien
 z wurde 2019 in Plymouth uraufgeführt. Und sie ist gerade wieder ein ganz
 es Stück aktueller geworden.\n\nAus dem Englischen von Stefan Wipplinger\
 nRechte bei Hartmann und Stauffacher GmbH\nMit Marleen Marsau\, Anam Vadga
 ma\, Florian Schwarz und Konstantin Schell\nLicht\, Ton und Regie: Jörg L
 ippmann\n\nPressestimmen:\n»Kieler theater hEXagon überzeugt in der Hans
 a48 mit der Inszenierung von ›Du blöde Finsternis!‹«\n»[…] ist [R
 egisseur Jörg Lippmann] ein anrührender und reich beklatschter Theaterab
 end über das\, was wirklich zählt\, geglückt.« – Kieler Nachrichten 
 zur Premiere\nDer Guardian schrieb zur Uraufführung: »Sam Steiner’s hi
 lariously bleak show about helpline volunteers has a charming cynicism and
  moments of compassion«\n\nDU BLÖDE FINSTERNIS ist die erste neue Produk
 tion von theater hEXagon e.V. (Freischwimmer\, Babewatch\, König Ubu\, Cr
 eeps\, Macbett uvm.) nach einer etwa 10-jährigen Kreativpause. Mit einem 
 verjüngten und vergrößerten Team – und neuer Spielfreude.\ntheater-he
 xagon.de/\nwww.youtube.com/watch?v=J6yAbxNoKmA\n\nEintritt: 16\,- / 9\,- (
 erm.) VVK (zzgl. Gebühren bei Tix for Gigs)\nwww.tixforgigs.com/Event/714
 73
BEGIN:VALARM
TRIGGER;VALUE=DURATION:P1D
ACTION:DISPLAY
DESCRIPTION:Theater hEXagon zeigt: »DU BLÖDE FINSTERNIS!« von Sam Steine
 r
END:VALARM
END:VEVENT
END:VCALENDAR
