BEGIN:VCALENDAR
VERSION:2.0
PRODID:-//Sabre//Sabre VObject 4.1.6//EN
CALSCALE:GREGORIAN
BEGIN:VEVENT
UID:sabre-vobject-920479bb-4660-4b15-a1fd-e6c5f08a8f9b
DTSTAMP:20260419T161958Z
SUMMARY:Tauschbörse
DTSTART;TZID=Europe/Berlin:20260417T150000
DTEND;TZID=Europe/Berlin:20260417T173000
ORGANIZER;CN=Ev.-Luth. Kompass-Kirchengemeinde:MAILTO:kontakt@kompass-kirch
 e.de
LOCATION:anna Holtenau Anlaufstelle Nachbarschaft\, Richthofenstraße 60\, 
 Kiel
DESCRIPTION:Tauschbörse\nAm Freitag\, 17. April\, findet von 15-17:30 Uhr 
 als gemeinsame Aktion der "anna Holtenau - Anlaufstelle Nachbarschaft“ u
 nd der Kompass-Kirchengemeinde eine Tauschbörse statt. So vieles ist zu s
 chade für den Müll. Bei der Tauschbörse in den Räumen der anna Holtena
 u (Richthofenstraße 60) finden schöne Dinge neue Besitzer und wir reduzi
 eren nebenbei den Müll.Gut erhaltenes und sauberes Tauschgut kann am Donn
 erstag\, 16. April\, zwischen 16 und 18 Uhr oder Freitag\, 17. April zwisc
 hen 12-14:45 Uhr bei der anna abgegeben werden – bitte keine Elektroger
 äte oder großen Dinge wie Fahrräder oder Möbel. Pro abgegebenen Gegens
 tand wird eine Wertmarke erstattet\, mit der jeweils eine neue Sache erwor
 ben werden kann (max. ca. 10 Wertmarken pro Person).
BEGIN:VALARM
TRIGGER;VALUE=DURATION:P1D
ACTION:DISPLAY
DESCRIPTION:Tauschbörse
END:VALARM
END:VEVENT
END:VCALENDAR
