BEGIN:VCALENDAR
VERSION:2.0
PRODID:-//Sabre//Sabre VObject 4.1.6//EN
CALSCALE:GREGORIAN
BEGIN:VEVENT
UID:sabre-vobject-5a4f155a-de80-4c39-a4f0-810d8e4b08d8
DTSTAMP:20260419T161958Z
SUMMARY:Taizéandacht
DTSTART;TZID=Europe/Berlin:20260401T190000
ORGANIZER;CN=Ev.-Luth. Kirchengemeinde Jakobi Kiel:MAILTO:gemeindebuero@jak
 obi-kiel.de
LOCATION:Jakobikirche Kiel\, Knooper Weg 12-16\, Kiel
GEO:54.326769;10.127878
BEGIN:VALARM
TRIGGER;VALUE=DURATION:P1D
ACTION:DISPLAY
DESCRIPTION:Taizéandacht
END:VALARM
END:VEVENT
END:VCALENDAR
