BEGIN:VCALENDAR
VERSION:2.0
PRODID:-//Sabre//Sabre VObject 4.1.6//EN
CALSCALE:GREGORIAN
BEGIN:VEVENT
UID:sabre-vobject-7dd0459d-8527-4536-9159-1036ec320976
DTSTAMP:20260419T162123Z
SUMMARY:Taizé Andacht
DTSTART;TZID=Europe/Berlin:20260416T183000
ORGANIZER;CN=Ev.-Luth. Emmaus-Kirchengemeinde Kiel:MAILTO:kirchenbuero@emma
 us-kiel.de
LOCATION:Emmaus-Kirchengemeinde\, Charles-Roß-Ring 118\, Kiel
GEO:54.3579696;10.1097121
BEGIN:VALARM
TRIGGER;VALUE=DURATION:P1D
ACTION:DISPLAY
DESCRIPTION:Taizé Andacht
END:VALARM
END:VEVENT
END:VCALENDAR
