BEGIN:VCALENDAR
VERSION:2.0
PRODID:-//Sabre//Sabre VObject 4.1.6//EN
CALSCALE:GREGORIAN
BEGIN:VEVENT
UID:sabre-vobject-b641ed86-7f46-470d-8164-cfc076593f4e
DTSTAMP:20260419T162153Z
SUMMARY:Stille Andacht
DTSTART;TZID=Europe/Berlin:20260429T180000
ORGANIZER;CN=Ev.-Luth. Friedensgemeinde Kiel:MAILTO:info@fg-kiel.de
LOCATION:St. Jürgen-Kirche (Friedensgemeinde Kiel)\, Königsweg 78\, Kiel
GEO:54.311833;10.125251
DESCRIPTION:\nDie St. Jürgen-Kirche ist immer mittwochs ab 18.00 Uhr geöf
 fnet zur stillen Andacht
BEGIN:VALARM
TRIGGER;VALUE=DURATION:P1D
ACTION:DISPLAY
DESCRIPTION:Stille Andacht
END:VALARM
END:VEVENT
END:VCALENDAR
