BEGIN:VCALENDAR
VERSION:2.0
PRODID:-//Sabre//Sabre VObject 4.1.6//EN
CALSCALE:GREGORIAN
BEGIN:VEVENT
UID:sabre-vobject-f9ba09aa-7700-4163-acda-8af84c43fa15
DTSTAMP:20260419T160406Z
SUMMARY:Siegfried Lenz: Mein erlebtes und erzähltes Schleswig-Holstein
DTSTART;TZID=Europe/Berlin:20260326T100000
DTEND;TZID=Europe/Berlin:20260510T180000
ORGANIZER;CN=Schleswig-Holsteinischer Landtag:MAILTO:jordis.holm@landtag.lt
 sh.de
LOCATION:Schleswig-Holsteinischer Landtag\, Düsternbrooker Weg 70\, Kiel
GEO:54.3353052;10.1525199
DESCRIPTION:\nDie Romane und Erzählungen von Siegfried Lenz (1926–2014) 
 sind ohne das Meer\, die Küste und die Menschen in Schleswig-Holstein kau
 m denkbar. Im nördlichsten Bundesland fand er Schauplätze für existenzi
 elle Erfahrungen\, heitere Begegnungen und eindringliche Beobachtungen.\n\
 nDer schleswig-holsteinische Ehrenbürger wäre im März 2026 hundert Jahr
 e alt geworden. Aus diesem Anlass präsentieren der Landtag und die Invest
 itionsbank Schleswig-Holstein (IB.SH) eine Sonderausstellung in der gemein
 samen Reihe Kulturland Schleswig- Holstein\, die der besonderen Beziehung 
 des Schriftstellers zum „Land zwischen den Meeren“ nachgeht. Und dies 
 gleich aus zwei Perspektiven: Erlebtes trifft auf Erzähltes.\n\nDie in Ko
 operation mit der Siegfried Lenz Stiftung sowie Comic-Zeichnerinnen und -Z
 eichnern aus Schleswig-Holstein entstandene Schau stellt mithilfe von Text
 en\, Fotos\, Dokumenten und Objekten aus dem Nachlass Lebensstationen von 
 Siegfried Lenz und Orte seines\neigenen Erlebens dar. Bilder und gezeichne
 te Geschichten lassen die Welt des „erzählten“ Schleswig-Holsteins in
  seinem Werk lebendig werden. Die Zeichnerinnen und Zeichner rund um das C
 omic-Kollektiv Pure Fruit werfen dabei einen kreativen und frischen Blick 
 auf Leben und Werk des Autors der Deutschstunde.\n\nSiegfried Lenz (1926
 –2014) zählt zu den bedeutendsten und meistgelesenen Schriftstellern de
 r deutschen Nachkriegs- und Gegenwartsliteratur. Für sein vielfältiges W
 erk wurde er mit zahlreichen wichtigen Preisen ausgezeichnet. Seine Erzäh
 lungen\, Romane\, Essays und Theaterstücke kreisen um gesellschaftliche F
 ragen\, immer wieder beteiligte er sich mit Reden und Stellungnahmen\nauch
  an politischen Auseinandersetzungen. Lenz wurde im  ostpreußischen Lyck
  geboren. Er lebte in Hamburg und viele Monate im Jahr auch im Kreis Schle
 swig-Flensburg in Tetenhusen. Am 2. Dezember 2004 wurde ihm die Ehrenbürg
 erschaft Schleswig-Holsteins\nverliehen.\n\nDie gemeinnützige Siegfried L
 enz Stiftung mit Sitz in Hamburg wurde von ihrem Namensgeber selbst ins Le
 ben gerufen. Sie hat sich die wissenschaftliche Aufarbeitung des schriftst
 ellerischen und publizistischen Werks von Siegfried Lenz zur Aufgabe gemac
 ht. Darüber hinaus vergibt sie Stipendien und unterstützt junge Künstle
 rinnen und Künstler sowie Wissenschaftlerinnen und Wissen-\nschaftler. Al
 le zwei Jahre verleiht die Stiftung an internationale Schriftstellerinnen 
 und Schriftsteller den Siegfried Lenz Preis.\n\nDie Ausstellung wird kurat
 iert von Dr. Maren Ermisch\, wissenschaftliche Mitarbeiterin am Germanisti
 schen Institut der Universität Münster und Mitherausgeberin der Hamburge
 r Ausgabe der Werke von Siegfried Lenz.Verantwortlich für die Gestaltung 
 sind Tim Eckhorst und Gregor Hinz\, Comiczeichner und Illustratoren aus Ki
 el sowie zwei Viertel des Comic-Kollektivs Pure Fruit. Neben ihnen wirken 
 vierzehn weitere Zeichnerinnen und Zeichner aus Schleswig-Holstein an der 
 Ausstellung mit.\n\nDie Ausstellung kann vom 26. März bis zum 10. Mai 202
 6 täglich von 10 bis 18 Uhr besucht werden. Bitte beachten Sie die Zutrit
 tshinweise zum Landeshaus\, welche Sie auf unserer Internetseite nachlesen
  können.
BEGIN:VALARM
TRIGGER;VALUE=DURATION:P1D
ACTION:DISPLAY
DESCRIPTION:Siegfried Lenz: Mein erlebtes und erzähltes Schleswig-Holstein
END:VALARM
END:VEVENT
END:VCALENDAR
