BEGIN:VCALENDAR
VERSION:2.0
PRODID:-//Sabre//Sabre VObject 4.1.6//EN
CALSCALE:GREGORIAN
BEGIN:VEVENT
UID:sabre-vobject-b0a6967a-a771-4c61-96b0-ba6bd929f052
DTSTAMP:20260419T162116Z
SUMMARY:Seniorennachmittag
DTSTART;TZID=Europe/Berlin:20260409T150000
DTEND;TZID=Europe/Berlin:20260409T170000
ORGANIZER;CN=Ev.-Luth. Friedensgemeinde Kiel:MAILTO:info@fg-kiel.de
LOCATION:Gemeindesaal Vicelin\, Paul-Fleming-Str. 4\, Kiel
GEO:54.320065;10.1161
DESCRIPTION:\nSeniorennachmittageEinladung an alle Seniorinnen und Senioren
 ! Wer aber gerade „frisch“ Geburtstag hatte\, ist ganz besonders einge
 laden und soll auch noch einmal besonders gewürdigt werden.Wie immer freu
 en wir uns darauf\, Sie zu unseren Nachmittagen für Senio-ren und Seniori
 nnen im Vicelin-Gemeindesaal begrüßen zu dürfen - in der Regel an jedem
  2. Donnerstag im Monat von 15 - 17 Uhr.Es wird Kaffee und Kuchen geben\, 
 und wir haben Themen für Sie vorbe-reitet\, über die wir miteinander ins
  Gespräch kommen wollen.Wie auch zu unseren Gottesdiensten bieten wir zu 
 diesen Nachmittagen einen Taxidienst an. Bitte melden Sie sich im Gemeinde
 büro (Tel.: 12 96 57) an\, und teilen Sie uns mit\, mit wie vielen Person
 en Sie kommen möchten und ob Sie einen Taxidienst benötigen.Und dann fü
 hlen Sie sich bei uns herzlich willkommen.Ihre Franziska Voß
BEGIN:VALARM
TRIGGER;VALUE=DURATION:P1D
ACTION:DISPLAY
DESCRIPTION:Seniorennachmittag
END:VALARM
END:VEVENT
END:VCALENDAR
