BEGIN:VCALENDAR
VERSION:2.0
PRODID:-//Sabre//Sabre VObject 4.1.6//EN
CALSCALE:GREGORIAN
BEGIN:VEVENT
UID:sabre-vobject-fd802453-62fb-4c1f-92af-769a5c326d5d
DTSTAMP:20260419T161951Z
SUMMARY:Sean Taylor
DTSTART;TZID=Europe/Berlin:20260409T190000
ORGANIZER;CN=Interessengemeinschaft Bethlehem-Kirche e.V.:MAILTO:kontakt@be
 thlehem-kirche.de
LOCATION:Bethlehem-Kirche\, Möhrkestraße 9\, Kiel (Friedrichsort)
GEO:54.3922622;10.1769904
DESCRIPTION:Sean Taylor ist ein Troubadour\, Multiinstrumentalist\, Sänger
 \, Gitarrist\, Pianist und Mundharmonikaspieler.\nIm Herzen von Sean Taylo
 r's Musik schwingt eine Sehnsucht die Welt in einen Song zu verwandeln. Se
 ine Songs handeln von Liebe\, Leidenschaft\, gebrochenen Herzen und Gesell
 schaftskritik. „Sean Taylor ist einer der besten Singer-Songwriter hier 
 in der Gegend...in UK“ (Blues Matters). „Er kann Alles in einen Song v
 erwandeln“ (Classic Rock). \nSean ist ein Troubadour\, der im internatio
 nalen Raum auf Tournee unterwegs ist. Er wurde 2023 und 2024 als bester 
 „UK acoustic blues“ Künstler des Jahres nominiert. Seine Stilrichtung
  könnte man am besten als Roots mit Einflüssen von Blues\, Americana\, J
 azz\, Spoken Word und Folk beschreiben. Neben seinen überaus produktiven 
 Songwriter Fähigkeiten ist Sean auch Multiinstrumentalist\, Sän-ger\, Gi
 tarrist\, Pianist und Mundharmonikaspieler. \nSean gibt bei seinen live Au
 ftritten immer alles. Er ist auf der ganzen Welt unterwegs und dabei ein h
 art arbeitender Künstler\, der keinen Tag vergehen lässt ohne an seiner 
 exzellenten Technik auf seinen Instrumenten zu arbeiten. Sean hatte auch A
 uftritte auf zahlreichen Festivals wie Glastonbury (acoustic stage)\, Camb
 ridge Folk Festival\, Port Fairy Folk Festival (Aus)\, Ramblin Roots Festi
 val (NL)\, Avignon Blues Festival (FR)\, Harvest Time Blues Festival (IRL)
 \, Blue Balls Festival (CH) und vielen weiteren Events weltweit. \nEr war 
 im Vorprogramm von Robert Cray\, John Fogerty\, John Mayall\, Neville Brot
 hers\, Tony Joe White\, Band Of Horses\, Richard Thompson\, Eric Bibb und 
 vielen weiteren Legenden.\n„Sean Taylor ist ein wundervoll talentierter 
 moderner Troubadour\, dessen ehrliche\, tiefgründigen Songs alle in ihren
  Bann ziehen. Ich hatte das Vergnügen mit Ihm auf der Bühne zu stehen un
 d er rockt. Hör mal rein!“ (Eric Bibb)\n„Ein ausgezeichneter junger M
 usiker\, Songwriter und ein cooler Typ. Ich habe nichts als Bewunderung f
 ür seine Hingabe zu seiner Kunstfertigkeit.“ (Danny Thompson)\n\nSean w
 urde gerade für den "UK Blues award" in der Kategorie "Acoustic act of th
 e year" nominiert.
BEGIN:VALARM
TRIGGER;VALUE=DURATION:P1D
ACTION:DISPLAY
DESCRIPTION:Sean Taylor
END:VALARM
END:VEVENT
END:VCALENDAR
