BEGIN:VCALENDAR
VERSION:2.0
PRODID:-//Sabre//Sabre VObject 4.1.6//EN
CALSCALE:GREGORIAN
BEGIN:VEVENT
UID:sabre-vobject-2f6bb121-9256-47f0-a9a9-2a1c352fdac4
DTSTAMP:20260419T164403Z
SUMMARY:Round and Round – Tischtenns-Rundlauf mit Auflegerei. An den Whee
 ls of Steel und Plastic: Hannahtronica + Friends auf musischer Entdeckungs
 reise
DTSTART;TZID=Europe/Berlin:20260414T200000
ORGANIZER;CN=Hansastrasse 48 e.V.:MAILTO:info@hansa48.de
LOCATION:Hansa 48 - Saal\, Hansastraße 48\, Kiel (Ravensberg - Brunswik - 
 Düsternbrook)
GEO:54.3352552;10.1273732
DESCRIPTION:\nRound and Round – Rundlauf mit Auflegerei. Unten dreht ihr 
 euch um die Platte – oben dreht sich die Platte für euch. An den Wheels
  of Steel und Plastic: Hannahtronica + Friends auf musischer Entdeckungsre
 ise\n\nEintritt gegen Spende
BEGIN:VALARM
TRIGGER;VALUE=DURATION:P1D
ACTION:DISPLAY
DESCRIPTION:Round and Round – Tischtenns-Rundlauf mit Auflegerei. An den 
 Wheels of Steel und Plastic: Hannahtronica + Friends auf musischer Entdeck
 ungsreise
END:VALARM
END:VEVENT
END:VCALENDAR
