BEGIN:VCALENDAR
VERSION:2.0
PRODID:-//Sabre//Sabre VObject 4.1.6//EN
CALSCALE:GREGORIAN
BEGIN:VEVENT
UID:sabre-vobject-ea546154-a607-4e7e-9b3d-aff8f83e3898
DTSTAMP:20260419T164356Z
SUMMARY:Queers & Friends #7 - Passend zum Motto „Walpurgisnacht“ laden 
 wir alle queeren Mäuse und alle Friends dazu ein\, mit uns in den Mai zu 
 tanzen...
DTSTART;TZID=Europe/Berlin:20260430T200000
ORGANIZER;CN=Hansastrasse 48 e.V.:MAILTO:info@hansa48.de
LOCATION:Hansa 48 - Saal\, Hansastraße 48\, Kiel (Ravensberg - Brunswik - 
 Düsternbrook)
GEO:54.3352552;10.1273732
DESCRIPTION:\nzu singen und zu feiern!???? \n\nAm Vorabend des 1. Mai verwa
 ndelt sich die Hansa in eine sagenumwobene Tanzstätte. Passend zum Motto 
 „Walpur-gisnacht“ laden wir alle queeren Mäuse und alle Friends dazu 
 ein\, mit uns in den Mai zu tanzen\, zu singen und zu feiern! \n\nIn gewoh
 nt spektakulärer Manier starten wir mit einer Runde Karaoke in den Abend\
 n\nDanach wird es bouncy. Es wird booty-shakey. Es wird joyful. Von Disco 
 über House bis Tech-House\, verfeinert mit RnB und 2000er Vocals\, servie
 rt euch sanna jo ein buntes Banger-Buffet ????????????\n@sanna.jo.m [00:00
 -02:00] \n\nZum Abschluss gibt es eine Portion bombastischen Trance zum Ab
 zappeln mit @dj.kravalle [02:00-04:00].\nEine Mischung aus Harmonie\, Euph
 orie\, Ironie und Politischen Texten zum Mitgrölen. Dresscodes oder düst
 ere Musik? Nichts für Kravalle! Denn Spaß\, Vielfalt und extase ist das 
 was dey auf den Dance Floor bringt\n\nKommt vorbei\, lasst euch verzaubern
  und startet mit uns gemeinsam solidarisch in den Mai!\n\n? Neben guter St
 immung und leckeren Getränken haben wir auch Security und Awareness Perso
 nal und ein Awareness-Konzept vor Ort\, damit ihr euch bei uns sicher und 
 wohl fühlen könnt. Wir freuen uns auf einen spaßigen Abend mit euch!\n\
 nHier ist Platz für alle - nur jeglicher Form von Rassismus\, Sexismus\, 
 Queerfeindlichkeit\, Antisemitismus\, Faschismus und Ableismus weisen wir 
 die Tür\n\n? Wir wollen mit dem Motto „Walpurgisnacht“ all den Mensch
 en gedenken\, die den Hexen- und Werwolfverfolgungen und -Verbrennungen zu
 m Opfer gefallen sind\, und uns solidarisch mit all den Personen zeigen\, 
 die auch heute noch von Marginalisierung\, Ausgrenzung und Verfolgung betr
 offen sind.\n\nEinlass ab 20:00\, Beginn um 21:00.\nGaLiGrü Eure Hansa Kn
 eipe\n\nEintritt: VVK 8\,-€  / AK 10\,-€\n(Karten gibt es in der Kneip
 e der Hansa zu kaufen - Nur Barzahlung möglich)
BEGIN:VALARM
TRIGGER;VALUE=DURATION:P1D
ACTION:DISPLAY
DESCRIPTION:Queers & Friends #7 - Passend zum Motto „Walpurgisnacht“ la
 den wir alle queeren Mäuse und alle Friends dazu ein\, mit uns in den Mai
  zu tanzen...
END:VALARM
END:VEVENT
END:VCALENDAR
