BEGIN:VCALENDAR
VERSION:2.0
PRODID:-//Sabre//Sabre VObject 4.1.6//EN
CALSCALE:GREGORIAN
BEGIN:VEVENT
UID:sabre-vobject-58b1be1a-cabf-4d7b-bb9f-93c9316e7d1f
DTSTAMP:20260419T161854Z
SUMMARY:Predigtgottesdienst
DTSTART;TZID=Europe/Berlin:20260419T100000
ORGANIZER;CN=Ev.-Luth. Kirchengemeinde Heiligengeist in Kiel:MAILTO:info@he
 iligengeist-kiel.de
LOCATION:Heiligengeist\, Holtenauer Str. 89\, Kiel
GEO:54.335579;10.132823
DESCRIPTION:Predigtgottesdienst
BEGIN:VALARM
TRIGGER;VALUE=DURATION:P1D
ACTION:DISPLAY
DESCRIPTION:Predigtgottesdienst
END:VALARM
END:VEVENT
END:VCALENDAR
