BEGIN:VCALENDAR
VERSION:2.0
PRODID:-//Sabre//Sabre VObject 4.1.6//EN
CALSCALE:GREGORIAN
BEGIN:VEVENT
UID:sabre-vobject-d7ac5c8f-ebfa-4a05-9e9d-f17d726ad1b1
DTSTAMP:20260419T161953Z
SUMMARY:Predigtgottesdienst
DTSTART;TZID=Europe/Berlin:20260412T100000
ORGANIZER;CN=Ev.-Luth. Kirchengemeinde Heiligengeist in Kiel:MAILTO:info@he
 iligengeist-kiel.de
LOCATION:Pauluskirche Kiel\, Niemannsweg 16\, Kiel
GEO:54.333933;10.145111
DESCRIPTION:Predigtgottesdienst
BEGIN:VALARM
TRIGGER;VALUE=DURATION:P1D
ACTION:DISPLAY
DESCRIPTION:Predigtgottesdienst
END:VALARM
END:VEVENT
END:VCALENDAR
