BEGIN:VCALENDAR
VERSION:2.0
PRODID:-//Sabre//Sabre VObject 4.1.6//EN
CALSCALE:GREGORIAN
BEGIN:VEVENT
UID:sabre-vobject-b94b281e-98f3-43e8-807e-bb074f6490e2
DTSTAMP:20260419T164306Z
SUMMARY:Politik trifft Sport: Was leistet der Sport für Inklusion und Teil
 habe?
DTSTART;TZID=Europe/Berlin:20260414T183000
DTEND;TZID=Europe/Berlin:20260414T220000
ORGANIZER;CN=Schleswig-Holsteinischer Landtag:MAILTO:jordis.holm@landtag.lt
 sh.de
LOCATION:Schleswig-Holsteinischer Landtag\, Schleswig-Holstein-Saal\, Düst
 ernbrooker Weg 70\, Kiel
GEO:54.3353052;10.1525199
DESCRIPTION:\n„Ich bin zu der Überzeugung gelangt\, dass der Sport für 
 die Politik in vieler Hinsicht ein wichtiges Leitbild sein kann – ja\, i
 st. Ein Leitbild\, das auch bei der parlamentarischen Arbeit in den kommen
 den Jahren dazu beitragen kann\, die großen gesellschaftlichen Herausford
 erungen\, denen wir gegenüberstehen\, zu bewältigen.“\nLandtagspräsid
 entin Kristina Herbst in ihrer Antrittsrede am 7. Juni 2022\n\nIm Rahmen d
 er Gesprächsreihe „Politik trifft Sport“ begegnen sich seit 2023 Poli
 tik und Sport im Landeshaus unter unterschiedlichen Schwerpunkten und Frag
 estellungen. Die nächste Veranstaltung dieser Reihe widmet sich den Chanc
 en und Herausforderungen einer offenen und inklusiven Gesellschaft – und
  der Rolle des Sports hierbei.\n\nDer Sport bringt Menschen zusammen – u
 nd er zeigt\, was möglich ist\, wenn Vielfalt selbstverständlich gelebt 
 wird. Doch er führt auch vor Augen\, dass die Umsetzung von Barrierefreih
 eit und von Angeboten zur Teilhabe dem eigentlichen Bedarf noch nicht gere
 cht wird. Dies lässt sich auch auf alle anderen gesellschaftlichen Bereic
 he übertragen. Wie kann echte Inklusion gelingen? Und welchen Beitrag kan
 n der Sport hierzu leisten? Was kann die Politik sich vom Sport abschauen?
  Und wie wichtig sind Sichtbarkeit und Vorbilder? Zu diesen und weiteren F
 ragen möchte Landtagspräsidentin Kristina Herbst mit Gästen aus Politik
  und Sport ins Gespräch kommen. \n\nAnmeldung für die Veranstaltung unte
 r Angabe Ihres vollständigen Namens sowie ggf. des Namens Ihrer Begleitun
 g bitte unter https://event_landtag.schleswig-holstein.de/#/events/899e13f
 1-d7db-40b2-99a0-64da2a6ad97d .\n\nFür den Zutritt zum Landeshaus benöti
 gen Sie einen amtlichen Lichtbildausweis. Nähere Informationen zu den gel
 tenden Zutrittsregelungen für das Landeshaus finden Sie unter https://www
 .landtag.ltsh.de/service/zutritt-zum-landeshaus/ .\n\nWenn Sie an der Vera
 nstaltung teilnehmen möchten und besondere Hilfe benötigen\, geben Sie u
 ns gerne Bescheid. Ein barrierefreier Zugang ist gewährleistet. Die Veran
 staltung wird durch Gebärdensprachdolmetscherinnen und -dolmetscher in di
 e deutsche Gebärdensprache (DGS) übersetzt.\n\nMit Ihrer Teilnahme erkl
 ären Sie sich mit der Aufnahme\, Speicherung und Veröffentlichung von Bi
 ld- und Tonmaterial einverstanden. Weitere Informationen hierzu finden Sie
  finden Sie auf https://www.landtag.ltsh.de/export/sites/ltsh/metainfo/dat
 enschutz-alt/info-dsgvo.pdf .
BEGIN:VALARM
TRIGGER;VALUE=DURATION:P1D
ACTION:DISPLAY
DESCRIPTION:Politik trifft Sport: Was leistet der Sport für Inklusion und 
 Teilhabe?
END:VALARM
END:VEVENT
END:VCALENDAR
