BEGIN:VCALENDAR
VERSION:2.0
PRODID:-//Sabre//Sabre VObject 4.1.6//EN
CALSCALE:GREGORIAN
BEGIN:VEVENT
UID:sabre-vobject-6763ab0a-2d7e-4422-9dc4-c8e8a7c4b006
DTSTAMP:20260419T162347Z
SUMMARY:Passionsandacht Pastor Michael Schwer
DTSTART;TZID=Europe/Berlin:20260401T180000
ORGANIZER;CN=Ev.-Luth. Emmaus-Kirchengemeinde Kiel:MAILTO:kirchenbuero@emma
 us-kiel.de
LOCATION:Emmaus-Kirchengemeinde\, Holtenauer Straße 327\, Kiel
GEO:54.3576227;10.1298961
BEGIN:VALARM
TRIGGER;VALUE=DURATION:P1D
ACTION:DISPLAY
DESCRIPTION:Passionsandacht Pastor Michael Schwer
END:VALARM
END:VEVENT
END:VCALENDAR
