BEGIN:VCALENDAR
VERSION:2.0
PRODID:-//Sabre//Sabre VObject 4.1.6//EN
CALSCALE:GREGORIAN
BEGIN:VEVENT
UID:sabre-vobject-1abb3d26-d757-403f-88c9-c6a3033e661c
DTSTAMP:20260419T162121Z
SUMMARY:Passionsandacht
DTSTART;TZID=Europe/Berlin:20260401T183000
ORGANIZER;CN=Ev.-Luth. Friedensgemeinde Kiel:MAILTO:info@fg-kiel.de
LOCATION:Raum Zastrowstr.\, (neben der Vicelinkirche)\, Kiel
GEO:54.320169;10.116268
DESCRIPTION:\nBewegte PassionsandachtenMit Gefühl! 7 Wochen ohne Härte. U
 nter diesem Motto steht die diesjährige Fastenaktion. Ralf Meister\, Land
 esbischof in Hannover und Botschafter dieser Aktion\, ruft dazu auf:„Las
 sen Sie uns mit Gefühl durch die Passionstage gehen\, auf Ostern zu. Lass
 en Sie uns fühlen\, wie lebendig das Leben sein kann\, wenn es jenseits a
 ller Härte neu wird!“ In den kommenden sechs Passionsandachten\, wollen
  wir diesem Fühlen auf ganzheitlichem Weg\, über Körperausdruck\, Beweg
 ung\, einfache Tanzimprovisation und Reflexion nachspüren.Tanzerfahrung i
 st hierfür nicht erforderlich. Alle\, die Freude daran haben und offen da
 für sind\, sich über Tanz und Bewegung auszudrücken\, sind herzlich wil
 lkommen.Termine: 25. Februar\, 4. März\, 11. März\, 18. März\, 25. Mär
 z\, 1. Apriljeweils um 18.30 Uhr in Vicelin\, im Gemeinderaum Zastrowstra
 ßeAnne Jordan
BEGIN:VALARM
TRIGGER;VALUE=DURATION:P1D
ACTION:DISPLAY
DESCRIPTION:Passionsandacht
END:VALARM
END:VEVENT
END:VCALENDAR
