BEGIN:VCALENDAR
VERSION:2.0
PRODID:-//Sabre//Sabre VObject 4.1.6//EN
CALSCALE:GREGORIAN
BEGIN:VEVENT
UID:sabre-vobject-621b6034-2bde-4dee-94a9-2d9f125a6670
DTSTAMP:20260419T161855Z
SUMMARY:Ostergottesdienst
DTSTART;TZID=Europe/Berlin:20260405T100000
ORGANIZER;CN=Seelsorge im Städtischen Krankenhaus Kiel:MAILTO:no-reply@mel
 sdorf.de
LOCATION:Andachtsraum im Städtischen Krankenhaus\, Metzstraße 1\, Kiel
GEO:54.324749;10.115861
BEGIN:VALARM
TRIGGER;VALUE=DURATION:P1D
ACTION:DISPLAY
DESCRIPTION:Ostergottesdienst
END:VALARM
END:VEVENT
END:VCALENDAR
