BEGIN:VCALENDAR
VERSION:2.0
PRODID:-//Sabre//Sabre VObject 4.1.6//EN
CALSCALE:GREGORIAN
BEGIN:VEVENT
UID:sabre-vobject-b466c688-d792-40a3-b8ad-82b4d2aa5e93
DTSTAMP:20260419T162122Z
SUMMARY:Osterfrühgottesdienst
DTSTART;TZID=Europe/Berlin:20260405T060000
ORGANIZER;CN=Ev.-Luth. Claus-Harms-Kirchengemeinde Kiel:MAILTO:kirchenbuero
 @claus-harms.de
LOCATION:Erlöserkirche Hasseldieksdamm\, Am Wohld 6\, Kiel
GEO:54.31956;10.0708
DESCRIPTION:mit Taufe von Konfirmand*innen
BEGIN:VALARM
TRIGGER;VALUE=DURATION:P1D
ACTION:DISPLAY
DESCRIPTION:Osterfrühgottesdienst
END:VALARM
END:VEVENT
END:VCALENDAR
