BEGIN:VCALENDAR
VERSION:2.0
PRODID:-//Sabre//Sabre VObject 4.1.6//EN
CALSCALE:GREGORIAN
BEGIN:VEVENT
UID:sabre-vobject-2fb1e754-8f1a-403f-a687-c450515d6c09
DTSTAMP:20260419T162255Z
SUMMARY:Oster-Frühgottesdienst
DTSTART;TZID=Europe/Berlin:20260405T054500
ORGANIZER;CN=Ev.-Luth. Kompass-Kirchengemeinde:MAILTO:kontakt@kompass-kirch
 e.de
LOCATION:Kompassgemeinde Dankeskirche Holtenau\, Grimmstraße 39\, Kiel
GEO:54.371179;10.148075
DESCRIPTION:Vom Dunkel zum Licht: Wir beginnen in der zunächst dunklen Kir
 che und freuen uns an den ersten Sonnenstrahlen\, die durch das Osterfenst
 er von Hans Gottfried von Stockhausen dringen.
BEGIN:VALARM
TRIGGER;VALUE=DURATION:P1D
ACTION:DISPLAY
DESCRIPTION:Oster-Frühgottesdienst
END:VALARM
END:VEVENT
END:VCALENDAR
