BEGIN:VCALENDAR
VERSION:2.0
PRODID:-//Sabre//Sabre VObject 4.1.6//EN
CALSCALE:GREGORIAN
BEGIN:VEVENT
UID:sabre-vobject-3cf62a07-748e-42a1-be3e-907e0681c262
DTSTAMP:20260419T162419Z
SUMMARY:Orgelmusik zur Marktzeit
DTSTART;TZID=Europe/Berlin:20260423T120500
DTEND;TZID=Europe/Berlin:20260423T121500
ORGANIZER;CN=Offene Kirche St. Nikolai in Kiel:MAILTO:no-reply@melsdorf.de
LOCATION:Offene Kirche St. Nikolai in Kiel\, Alter Markt\, Kiel
GEO:54.323221;10.138686
DESCRIPTION:Wöchentlich wechselnde Orgelmusik\, Eintritt frei
BEGIN:VALARM
TRIGGER;VALUE=DURATION:P1D
ACTION:DISPLAY
DESCRIPTION:Orgelmusik zur Marktzeit
END:VALARM
END:VEVENT
END:VCALENDAR
