BEGIN:VCALENDAR
VERSION:2.0
PRODID:-//Sabre//Sabre VObject 4.1.6//EN
CALSCALE:GREGORIAN
BEGIN:VEVENT
UID:sabre-vobject-54437afa-fc3a-4c1b-b97e-3449b611b825
DTSTAMP:20260419T162418Z
SUMMARY:Orgelmusik zur Marktzeit
DTSTART;TZID=Europe/Berlin:20260416T120500
DTEND;TZID=Europe/Berlin:20260416T121500
ORGANIZER;CN=Offene Kirche St. Nikolai in Kiel:MAILTO:no-reply@melsdorf.de
LOCATION:Offene Kirche St. Nikolai in Kiel\, Alter Markt\, Kiel
GEO:54.323221;10.138686
DESCRIPTION:Wöchentlich wechselnde Orgelmusik\, Eintritt frei
BEGIN:VALARM
TRIGGER;VALUE=DURATION:P1D
ACTION:DISPLAY
DESCRIPTION:Orgelmusik zur Marktzeit
END:VALARM
END:VEVENT
END:VCALENDAR
