BEGIN:VCALENDAR
VERSION:2.0
PRODID:-//Sabre//Sabre VObject 4.1.6//EN
CALSCALE:GREGORIAN
BEGIN:VEVENT
UID:sabre-vobject-542fa1ab-b30a-495c-8f35-a8b70513acbb
DTSTAMP:20260419T162347Z
SUMMARY:Orgelmusik zur Marktzeit
DTSTART;TZID=Europe/Berlin:20260402T120500
DTEND;TZID=Europe/Berlin:20260402T121500
ORGANIZER;CN=Offene Kirche St. Nikolai in Kiel:MAILTO:no-reply@melsdorf.de
LOCATION:Offene Kirche St. Nikolai in Kiel\, Alter Markt\, Kiel
GEO:54.323221;10.138686
DESCRIPTION:Wöchentlich wechselnde Orgelmusik\nEintritt frei
BEGIN:VALARM
TRIGGER;VALUE=DURATION:P1D
ACTION:DISPLAY
DESCRIPTION:Orgelmusik zur Marktzeit
END:VALARM
END:VEVENT
END:VCALENDAR
