BEGIN:VCALENDAR
VERSION:2.0
PRODID:-//Sabre//Sabre VObject 4.1.6//EN
CALSCALE:GREGORIAN
BEGIN:VEVENT
UID:sabre-vobject-83972e11-44c7-40b7-8c37-a137a749dcbb
DTSTAMP:20260419T164024Z
SUMMARY:Ökumenischer Nachmittag für Seniorinnen und Senioren
DTSTART;TZID=Europe/Berlin:20260410T150000
DTEND;TZID=Europe/Berlin:20260410T170000
ORGANIZER;CN=Ev.-Luth. Thomas-Kirchengemeinde Kiel-Mettenhof:MAILTO:info@ki
 rche-mettenhof.de
LOCATION:Ökumenisches Zentrum Birgitta-Thomas-Haus\, Skandinaviendamm 350\
 , Kiel (Mettenhof)
GEO:54.32217;10.05069
BEGIN:VALARM
TRIGGER;VALUE=DURATION:P1D
ACTION:DISPLAY
DESCRIPTION:Ökumenischer Nachmittag für Seniorinnen und Senioren
END:VALARM
END:VEVENT
END:VCALENDAR
