BEGIN:VCALENDAR
VERSION:2.0
PRODID:-//Sabre//Sabre VObject 4.1.6//EN
CALSCALE:GREGORIAN
BEGIN:VEVENT
UID:sabre-vobject-2db42f65-f6a7-473f-b104-2bddfe509da3
DTSTAMP:20260419T162704Z
SUMMARY:Ökumenischer Kreuzweg um den Heidenberger Teich
DTSTART;TZID=Europe/Berlin:20260403T093000
ORGANIZER;CN=Ev.-Luth. Thomas-Kirchengemeinde Kiel-Mettenhof:MAILTO:info@ki
 rche-mettenhof.de
LOCATION:Ökumenisches Zentrum Birgitta-Thomas-Haus\, Skandinaviendamm 350\
 , Kiel (Mettenhof)
GEO:54.32217;10.05069
DESCRIPTION:Karfreitag
BEGIN:VALARM
TRIGGER;VALUE=DURATION:P1D
ACTION:DISPLAY
DESCRIPTION:Ökumenischer Kreuzweg um den Heidenberger Teich
END:VALARM
END:VEVENT
END:VCALENDAR
