BEGIN:VCALENDAR
VERSION:2.0
PRODID:-//Sabre//Sabre VObject 4.1.6//EN
CALSCALE:GREGORIAN
BEGIN:VEVENT
UID:sabre-vobject-fb5fae46-0aa7-461c-b79d-328c10750565
DTSTAMP:20260419T163021Z
SUMMARY:Ökumenischer Familiengottesdienst in und mit der Region
DTSTART;TZID=Europe/Berlin:20260406T110000
ORGANIZER;CN=Ev.-Luth. Thomas-Kirchengemeinde Kiel-Mettenhof:MAILTO:info@ki
 rche-mettenhof.de
LOCATION:Ev.-Luth. Thomas-Kirchengemeinde Kiel-Mettenhof\, Skandinaviendamm
  350\, Kiel
GEO:54.322174;10.051003
DESCRIPTION:Ostermontag\nWir feiern mit der Kath. Gemeinde St. Birgitta und
  den Kirchengemeinden unserer Region (Ev.-Luth. Friedensgemeinde Kiel\, Ev
 .-Luth. Michaelis-Kirchengemeinde und Ev.-Luth. Claus-Harms-Kirchengemeind
 e) einen ökumenischen Familiengottesdienst. Im Anschluss laden wir ein zu
 r Ostereier-Suche und einem Beisammensein.
BEGIN:VALARM
TRIGGER;VALUE=DURATION:P1D
ACTION:DISPLAY
DESCRIPTION:Ökumenischer Familiengottesdienst in und mit der Region
END:VALARM
END:VEVENT
END:VCALENDAR
