BEGIN:VCALENDAR
VERSION:2.0
PRODID:-//Sabre//Sabre VObject 4.1.6//EN
CALSCALE:GREGORIAN
BEGIN:VEVENT
UID:sabre-vobject-175c5ce2-59eb-4c4a-b1da-f1a80ac61952
DTSTAMP:20260419T162536Z
SUMMARY:Ökumenische Frühandacht
DTSTART;TZID=Europe/Berlin:20260401T070000
ORGANIZER;CN=Ev.-Luth. Kirchengemeinde St. Nikolai zu Kiel:MAILTO:gemeindeb
 uero@st-nikolai-kiel.de
LOCATION:Offene Kirche St. Nikolai in Kiel\, Alter Markt\, Kiel
GEO:54.323221;10.138686
DESCRIPTION:\nanschließend gemeinsames Frühstück
BEGIN:VALARM
TRIGGER;VALUE=DURATION:P1D
ACTION:DISPLAY
DESCRIPTION:Ökumenische Frühandacht
END:VALARM
END:VEVENT
END:VCALENDAR
