BEGIN:VCALENDAR
VERSION:2.0
PRODID:-//Sabre//Sabre VObject 4.1.6//EN
CALSCALE:GREGORIAN
BEGIN:VEVENT
UID:sabre-vobject-c7caae87-fde1-4085-9137-d32dc5c056ca
DTSTAMP:20260419T162706Z
SUMMARY:Ökumenische Agape-Feier für Kinder
DTSTART;TZID=Europe/Berlin:20260402T160000
ORGANIZER;CN=Ev.-Luth. Thomas-Kirchengemeinde Kiel-Mettenhof:MAILTO:info@ki
 rche-mettenhof.de
LOCATION:St. Birgitta-Thomas-Kirche Kiel-Mettenhof\, Skandinaviendamm 350\,
  Kiel
GEO:54.322965;10.052257
DESCRIPTION:Gründonnerstag
BEGIN:VALARM
TRIGGER;VALUE=DURATION:P1D
ACTION:DISPLAY
DESCRIPTION:Ökumenische Agape-Feier für Kinder
END:VALARM
END:VEVENT
END:VCALENDAR
