BEGIN:VCALENDAR
VERSION:2.0
PRODID:-//Sabre//Sabre VObject 4.1.6//EN
CALSCALE:GREGORIAN
BEGIN:VEVENT
UID:sabre-vobject-86fb949d-bdf2-4c45-9676-d36b781cec38
DTSTAMP:20260419T164255Z
SUMMARY:Nacht der Clubs/ Kulturrausch präsentiert: Comic Battle: Es lebe d
 er Sport + Live-Konzert in der Kneipe: Hoorah Henries (Indie Cover Band)
DTSTART;TZID=Europe/Berlin:20260411T200000
ORGANIZER;CN=Hansastrasse 48 e.V.:MAILTO:info@hansa48.de
LOCATION:Hansa 48 - Saal\, Hansastraße 48\, Kiel (Ravensberg - Brunswik - 
 Düsternbrook)
GEO:54.3352552;10.1273732
DESCRIPTION:\nStirnband richten\, Socken hochziehen\, einmal tief durchatme
 n\, Curlingstein anstupsen und schon gehts los mit dem Comic Battle! 5 Zei
 chner*innen gegen die Zeit und die Bundesjugendspiele sind schnell wieder 
 vergessen. Präsentiert von Doodleduell!\n\nEintritt: 12\,- VVK / 15\,- AK
BEGIN:VALARM
TRIGGER;VALUE=DURATION:P1D
ACTION:DISPLAY
DESCRIPTION:Nacht der Clubs/ Kulturrausch präsentiert: Comic Battle: Es le
 be der Sport + Live-Konzert in der Kneipe: Hoorah Henries (Indie Cover Ban
 d)
END:VALARM
END:VEVENT
END:VCALENDAR
