BEGIN:VCALENDAR
VERSION:2.0
PRODID:-//Sabre//Sabre VObject 4.1.6//EN
CALSCALE:GREGORIAN
BEGIN:VEVENT
UID:sabre-vobject-c9fb0246-4938-4a17-b4c5-3f0146f99770
DTSTAMP:20260419T162250Z
SUMMARY:Mozart & Debussy
DTSTART;TZID=Europe/Berlin:20260418T180000
ORGANIZER;CN=Interessengemeinschaft Bethlehem-Kirche e.V.:MAILTO:kontakt@be
 thlehem-kirche.de
LOCATION:Bethlehem-Kirche\, Möhrkestraße 9\, Kiel (Friedrichsort)
GEO:54.3922622;10.176990383511
DESCRIPTION:Rolf Herbrechtsmeyer – Cello\nYuko Hirose – Klavier\nWolfga
 ng Amadeus Mozart - der Meister der Wiener Klassik einerseits\, Claude Deb
 ussy - der Klangzauberer des Impressionismus andererseits. Zwei musikalisc
 he Welten treffen aufeinander\, beide unverwechselbar und in ihrer Art ein
 malig. Mozarts Violinsonaten in der Fassung für Cello und Klavier\, volle
 r Leichtigkeit und Lebensfreude und doch voll inniger Tiefe - Debussys Cel
 losonate\, eine seiner letzten Kompositionen\, komponiert während des ers
 ten Weltkrieges\, eine mitreißende Musik voller Fantasie und Bizarrheit. 
 \n\nProgramm:\nClaude Debussy: Sonate für Violoncello und Klavier\nW.A. M
 ozart: Rondo D-Dur für Klavier KV 485\nClaude Debussy: Ein Stück aus den
  Préludes für Klavier solo\nClaude Debussy: Ariettes oubliées für Gesa
 ngsstimme und Klavier\nW.A. Mozart: Die Violinsonaten KV 305 und KV 303\n\
 nRolf Herbrechtsmeyer – Cello\nYuko Hirose – Klavier
BEGIN:VALARM
TRIGGER;VALUE=DURATION:P1D
ACTION:DISPLAY
DESCRIPTION:Mozart & Debussy
END:VALARM
END:VEVENT
END:VCALENDAR
