BEGIN:VCALENDAR
VERSION:2.0
PRODID:-//Sabre//Sabre VObject 4.1.6//EN
CALSCALE:GREGORIAN
BEGIN:VEVENT
UID:sabre-vobject-37a33c67-126a-43ab-8b55-8111d93ce7bd
DTSTAMP:20260419T161803Z
SUMMARY:Morgenlob
DTSTART;TZID=Europe/Berlin:20260428T080000
DTEND;TZID=Europe/Berlin:20260428T084500
ORGANIZER;CN=Ev.-Luth. Luther-Kirchengemeinde Kiel:MAILTO:kirchenbuero@luth
 erkirche-kiel.de
LOCATION:Lutherkirche Kiel\, Schillerstraße 27\, Kiel
GEO:54.330763;10.124127
BEGIN:VALARM
TRIGGER;VALUE=DURATION:P1D
ACTION:DISPLAY
DESCRIPTION:Morgenlob
END:VALARM
END:VEVENT
END:VCALENDAR
