BEGIN:VCALENDAR
VERSION:2.0
PRODID:-//Sabre//Sabre VObject 4.1.6//EN
CALSCALE:GREGORIAN
BEGIN:VEVENT
UID:sabre-vobject-d1ea6b0e-f149-47f3-8799-97a9f9f29db3
DTSTAMP:20260419T161804Z
SUMMARY:Morgenlob
DTSTART;TZID=Europe/Berlin:20260421T080000
DTEND;TZID=Europe/Berlin:20260421T084500
ORGANIZER;CN=Ev.-Luth. Luther-Kirchengemeinde Kiel:MAILTO:kirchenbuero@luth
 erkirche-kiel.de
LOCATION:Lutherkirche Kiel\, Schillerstraße 27\, Kiel
GEO:54.330763;10.124127
BEGIN:VALARM
TRIGGER;VALUE=DURATION:P1D
ACTION:DISPLAY
DESCRIPTION:Morgenlob
END:VALARM
END:VEVENT
END:VCALENDAR
