BEGIN:VCALENDAR
VERSION:2.0
PRODID:-//Sabre//Sabre VObject 4.1.6//EN
CALSCALE:GREGORIAN
BEGIN:VEVENT
UID:sabre-vobject-bd66e49d-653f-43e9-a3c5-454795f15d36
DTSTAMP:20260419T162004Z
SUMMARY:Männergruppe
DTSTART;TZID=Europe/Berlin:20260415T193000
DTEND;TZID=Europe/Berlin:20260415T220000
ORGANIZER;CN=Ev.-Luth. Luther-Kirchengemeinde Kiel:MAILTO:kirchenbuero@luth
 erkirche-kiel.de
LOCATION:Lutherhaus Kiel\, Hebbelstraße 1-3\, Kiel
GEO:54.330838;10.124106
DESCRIPTION:Spirituelle Männergruppe
BEGIN:VALARM
TRIGGER;VALUE=DURATION:P1D
ACTION:DISPLAY
DESCRIPTION:Männergruppe
END:VALARM
END:VEVENT
END:VCALENDAR
