BEGIN:VCALENDAR
VERSION:2.0
PRODID:-//Sabre//Sabre VObject 4.1.6//EN
CALSCALE:GREGORIAN
BEGIN:VEVENT
UID:sabre-vobject-aff0fd98-b585-4727-900a-887f2d0ffd55
DTSTAMP:20260419T162003Z
SUMMARY:Luja-Kids
DTSTART;TZID=Europe/Berlin:20260415T160000
DTEND;TZID=Europe/Berlin:20260415T173000
ORGANIZER;CN=Ev.-Luth. Luther-Kirchengemeinde Kiel:MAILTO:kirchenbuero@luth
 erkirche-kiel.de
LOCATION:Lutherhaus Kiel\, Hebbelstraße 1-3\, Kiel
GEO:54.330838;10.124106
DESCRIPTION:Jugendarbeit im Jugendkeller des Gemeindeshauses
BEGIN:VALARM
TRIGGER;VALUE=DURATION:P1D
ACTION:DISPLAY
DESCRIPTION:Luja-Kids
END:VALARM
END:VEVENT
END:VCALENDAR
