BEGIN:VCALENDAR
VERSION:2.0
PRODID:-//Sabre//Sabre VObject 4.1.6//EN
CALSCALE:GREGORIAN
BEGIN:VEVENT
UID:sabre-vobject-1ed94cee-b07f-4812-99de-4bc18b9911f8
DTSTAMP:20260419T162832Z
SUMMARY:Live: Pigeon (Post Punk\, Berlin) + Gravurs (Death Rock\, Leipzig 
 – Erstes Konzept) + Anfangsverdacht (EBM/Coldwave\, Hamburg)
DTSTART;TZID=Europe/Berlin:20260418T200000
ORGANIZER;CN=Hansastrasse 48 e.V.:MAILTO:info@hansa48.de
LOCATION:Hansa 48 - Saal\, Hansastraße 48\, Kiel (Ravensberg - Brunswik - 
 Düsternbrook)
GEO:54.3352552;10.1273732
DESCRIPTION:\nErscheinen Sie\, sonst weinen Sie!\n\nDer April\, der April\,
  der macht\, was er will......mit:\n\nPigeon (Post Punk\, Berlin)\npigeon4
 .bandcamp.com/album/deny-all-knowledge-of-complicity\n\nGravurs (Death Roc
 k\, Leipzig – allererstes Konzert!)\nGaaaaanz neu und daher noch keine A
 ufnahmen – aber wird traumhaft. (Quelle: Vertraut uns\, ja?)\n\nAnfangsv
 erdacht (EBM/Coldwave\, Hamburg) \nanfangsverdachtanfangsverdacht.bandcamp
 .com/album/nr-1\n\nEintritt: 14\,- VVK (zzgl. Gebühren bei tixforgigs) / 
 17\,- AK\nwww.tixforgigs.com/Event/71467
BEGIN:VALARM
TRIGGER;VALUE=DURATION:P1D
ACTION:DISPLAY
DESCRIPTION:Live: Pigeon (Post Punk\, Berlin) + Gravurs (Death Rock\, Leipz
 ig – Erstes Konzept) + Anfangsverdacht (EBM/Coldwave\, Hamburg)
END:VALARM
END:VEVENT
END:VCALENDAR
