BEGIN:VCALENDAR
VERSION:2.0
PRODID:-//Sabre//Sabre VObject 4.1.6//EN
CALSCALE:GREGORIAN
BEGIN:VEVENT
UID:sabre-vobject-ba4f6ee1-37b7-447a-b16a-24b7aa05f0ee
DTSTAMP:20260419T164138Z
SUMMARY:Live: Citric Dummies (eggpunkgaragehardcoreskatepunk\, USA) + The G
 obs (punkgaragelofishitgazesynthpunk\, USA)
DTSTART;TZID=Europe/Berlin:20260410T200000
ORGANIZER;CN=Hansastrasse 48 e.V.:MAILTO:info@hansa48.de
LOCATION:Hansa 48 - Saal\, Hansastraße 48\, Kiel (Ravensberg - Brunswik - 
 Düsternbrook)
GEO:54.3352552;10.1273732
DESCRIPTION:\nCitric Dummies (USA)\n\nSplit With Turnstile LP - 2025\nMinne
 apolis cut-ups CITRIC DUMMIES return with their fourth LP\, Split With Tur
 nstile\, which—consider yourself warned—is not a split with TURNSTILE 
 at all. They put up a snotty front\, but all hijinks aside\, across eleven
  high-energy songs in twenty minutes they blast out buoyant\, tongue-in-ch
 eek punk propelled by D.V. Tinner’s hyperactive drum-ming. It’s fast w
 ithout tipping into hardcore\, landing somewhere between the BROKEDOWNS an
 d DEAN DIRG. My buddy Tom says parts of it sound like a less crusty ANNIHI
 LATION TIME\, and he’s not wrong. Even when they’re yelling “I Don
 ’t Like Anything\,” the whole thing still bursts with this dumb\, irre
 sistible sense of fun. I fucking love this record. Immediate top ten mater
 ial.\n\ncitricdummies.bandcamp.com/album/trapped-in-a-parking-garage\nwww.
 instagram.com/citricdummies/?hl=de\nwww.maximumrocknroll.com/band/citric-d
 ummies/\nwww.youtube.com/watch?v=IaQnxjMg6gs\n\n------\nThe Gobs (USA)\n\n
 Go Soft / Pop Off EP - 2024\nMy initial thought seeing this single was “
 Wow\, a Goodbye Boozy band with songs that run longer than two minutes?”
  Took me a minute-and-a-half to realize that this isn’t a single at all\
 ; the A and B-sides are just two different EPs. More lo-fi\, synth-driven 
 egg-punk that we’ve come to expect from this label. However\, each song 
 has a different vibe to it. There’s a diverse range of gear used on each
  track\, specifically the different drum machines featured throughout. The
  GOBS bounce back and forth between sounding like PRISON AFFAIR\, ’90s d
 ream pop\, and sinister darkwave. Really freshens things up and keeps them
  from sounding like the hundreds of other egg bands out there right now.\n
 \nwww.youtube.com/watch?v=7kAZa-y-2pY\nwww.youtube.com/watch?v=Vb5qPAkb98U
 \nthegobs.bandcamp.com/album/pop-off\nwww.maximumrocknroll.com/band/the-go
 bs/\n\nEintritt: VVK 16\,- (zzgl. Gebühren bei tixforgigs) / AK 19\,-\nww
 w.tixforgigs.com/Event/71504
BEGIN:VALARM
TRIGGER;VALUE=DURATION:P1D
ACTION:DISPLAY
DESCRIPTION:Live: Citric Dummies (eggpunkgaragehardcoreskatepunk\, USA) + T
 he Gobs (punkgaragelofishitgazesynthpunk\, USA)
END:VALARM
END:VEVENT
END:VCALENDAR
