BEGIN:VCALENDAR
VERSION:2.0
PRODID:-//Sabre//Sabre VObject 4.1.6//EN
CALSCALE:GREGORIAN
BEGIN:VEVENT
UID:sabre-vobject-da5fc8a8-28d9-4ad6-ab72-7acde6ccc45e
DTSTAMP:20260419T163937Z
SUMMARY:Live: Agata Karczewska (Singer-songwriterinalternativealt-countryfo
 lk\, Warschau) + Support: Steven Statz
DTSTART;TZID=Europe/Berlin:20260423T200000
ORGANIZER;CN=Hansastrasse 48 e.V.:MAILTO:info@hansa48.de
LOCATION:Hansa 48 - Saal\, Hansastraße 48\, Kiel (Ravensberg - Brunswik - 
 Düsternbrook)
GEO:54.3352552;10.1273732
DESCRIPTION:\nAgata Karczewska /Kar-chef-ska/\, a singer-songwriter from Wa
 rsaw\, Poland\, blends American folk and country in-fluences\, creating a 
 style that feels raw\, warm\, and deeply personal. Self-taught and inspire
 d by artists like Elliott Smith and Bob Dylan\, she writes songs that tell
  authentic stories\, blending her strong\, distinctive voice with the warm
  strum of an acoustic guitar.\n\nIn 2017\, her original material\, where A
 gata sings about sin\, sensitivity\, and loneliness\, was released on her 
 debut EP\, You're Not So Special. Her first LP\, I’m Not Good at Having 
 Fun\, came out in 2019 and opened doors to major festivals like Open’er\
 , Pol'and'Rock\, and Way Out West in Sweden.\nIn 2020\, Agata was nominate
 d for a Fryderyk award\, Poland’s version of the Grammy\, and won the Ma
 teusz award from prominent radio station\, Trójka for promising young art
 ists. In January 2020\, she won the "Best Song of the Month" contest by So
 ngwriter Universe for her song „Fool."\nIn 2022\, she teamed up with Eng
 lish songwriter John Porter to create the song "No Way to Say Goodbye\," a
 nd  their partnership grew into the album On the Wrong Planet\, released i
 n 2023. The album won them a Fryderyk award in 2024.\nIn December 2024\, s
 he released a new EP Not My First Rodeo\, featuring more of her storytelli
 ng and honest lyrics\nAgata’s music is all about heartfelt lyrics\, real
  emotions\, and a style that’s uniquely her own.\n\n+ Support: Steven St
 atz\nwww.instagram.com/steven_stzz_fm/\nsoundcloud.com/steven-statz\n\nEin
 tritt: VVK 16\,- (zzgl. Gebühren bei tixforgigs) / AK 19\,-\nwww.tixforgi
 gs.com/Event/70922
BEGIN:VALARM
TRIGGER;VALUE=DURATION:P1D
ACTION:DISPLAY
DESCRIPTION:Live: Agata Karczewska (Singer-songwriterinalternativealt-count
 ryfolk\, Warschau) + Support: Steven Statz
END:VALARM
END:VEVENT
END:VCALENDAR
