BEGIN:VCALENDAR
VERSION:2.0
PRODID:-//Sabre//Sabre VObject 4.1.6//EN
CALSCALE:GREGORIAN
BEGIN:VEVENT
UID:sabre-vobject-33fcfa0a-8efb-453a-b0af-4beb0cfb6d89
DTSTAMP:20260419T162055Z
SUMMARY:Konfirmationsgottesdienst
DTSTART;TZID=Europe/Berlin:20260426T103000
ORGANIZER;CN=Ev.-Luth. Apostel-Kirchengemeinde Kiel:MAILTO:kontakt@akg-kiel
 .de
LOCATION:Petruskirche Kiel-Wik\, Weimarer Straße 1\, Kiel
GEO:54.358555;10.137359
BEGIN:VALARM
TRIGGER;VALUE=DURATION:P1D
ACTION:DISPLAY
DESCRIPTION:Konfirmationsgottesdienst
END:VALARM
END:VEVENT
END:VCALENDAR
