BEGIN:VCALENDAR
VERSION:2.0
PRODID:-//Sabre//Sabre VObject 4.1.6//EN
CALSCALE:GREGORIAN
BEGIN:VEVENT
UID:sabre-vobject-832e10aa-dd4d-4df2-887f-fc8db9fdfbd1
DTSTAMP:20260419T162704Z
SUMMARY:Kneipenkonzert #140 mit Variomatix Akustik (akustisch FunkSoulRockG
 roove)
DTSTART;TZID=Europe/Berlin:20260417T210000
ORGANIZER;CN=Hansastrasse 48 e.V.:MAILTO:info@hansa48.de
LOCATION:Hansa 48 - Saal\, Hansastraße 48\, Kiel (Ravensberg - Brunswik - 
 Düsternbrook)
GEO:54.3352552;10.1273732
DESCRIPTION:\nDie Kieler Band Variomatix nennt ihre Schublade Soul*Funk*Sou
 l*Rock und steht seit Jahren für mitreißende Live-Energie und kraftvolle
 n Groove. Jetzt legt sie im Trio-Format als Variomatix Akustik ein weitere
 s interessantes Kon-zept vor. „Unser Schlagzeuger war im letzten Jahr su
 perviel in andere Projekte eingebunden – also haben wir uns unsere Songs
  ohne Drums vorgenommen “\, erklärt Sängerin Anne\, verantwortlich fü
 r Texte und Gesangsmelodien der Band\, „Ufo und Matze machen sehr geile 
 Sachen auf ihren Akustikgitarren\, sowas hört man sonst nicht so oft.“ 
 Die Grundidee der Stücke ist geblieben\, und durch die reduzierte Umsetzu
 ng entsteht Raum für feine Zwischentöne und neue Klangfar-ben.\n\nVariom
 atix Akustik haben mit zwei Gitarren und ausdrucksstarkem Gesang eine span
 nende Version ihrer eigenen Musik am Start. Jan-Ufe Becker\, Matthias Orli
 tz und Anne Rabe zeigen mal eben\, wie virtuoses Spiel und musikalische Ti
 efe auch ohne großes Besteck leuchten können.\n\nGeht los am Freitag\, 1
 7.04.2026 in der besten Hansa48. Kneipenkonzert! Vorfreude!\n\nEintritt: 3
 -5\,- €
BEGIN:VALARM
TRIGGER;VALUE=DURATION:P1D
ACTION:DISPLAY
DESCRIPTION:Kneipenkonzert #140 mit Variomatix Akustik (akustisch FunkSoulR
 ockGroove)
END:VALARM
END:VEVENT
END:VCALENDAR
