BEGIN:VCALENDAR
VERSION:2.0
PRODID:-//Sabre//Sabre VObject 4.1.6//EN
CALSCALE:GREGORIAN
BEGIN:VEVENT
UID:sabre-vobject-9e2d018f-cfc4-4b73-9f28-4ef553d6d947
DTSTAMP:20260419T162705Z
SUMMARY:Kinderkirche mit Frühstück "Siehe\, ich mache alles neu. Kleines 
 wird groß\, da staun' ich aber." mit Diakon Christoph Schröder-Walkenhor
 st und Martina Engelke
DTSTART;TZID=Europe/Berlin:20260419T093000
DTEND;TZID=Europe/Berlin:20260419T120000
ORGANIZER;CN=Ev.-Luth. Matthias-Claudius-Kirchengemeinde Kiel-Suchsdorf:MAI
 LTO:buero@kirche-suchsdorf.de
LOCATION:Matthias-Claudius-Kirchengemeinde Kiel-Suchsdorf\, Alte Dorfstrass
 e 53\, Kiel
GEO:54.3605326;10.0840344
BEGIN:VALARM
TRIGGER;VALUE=DURATION:P1D
ACTION:DISPLAY
DESCRIPTION:Kinderkirche mit Frühstück "Siehe\, ich mache alles neu. Klei
 nes wird groß\, da staun' ich aber." mit Diakon Christoph Schröder-Walke
 nhorst und Martina Engelke
END:VALARM
END:VEVENT
END:VCALENDAR
