BEGIN:VCALENDAR
VERSION:2.0
PRODID:-//Sabre//Sabre VObject 4.1.6//EN
CALSCALE:GREGORIAN
BEGIN:VEVENT
UID:sabre-vobject-bebcf4e1-a601-415c-94f5-e1bd61b4d75c
DTSTAMP:20260419T162153Z
SUMMARY:Karfreitag-Gottesdienst
DTSTART;TZID=Europe/Berlin:20260403T100000
ORGANIZER;CN=Ev.-Luth. Friedensgemeinde Kiel:MAILTO:info@fg-kiel.de
LOCATION:Vicelinkirche (Friedensgemeinde Kiel)\, Harmsstraße 123\, Kiel
GEO:54.320287;10.116556
BEGIN:VALARM
TRIGGER;VALUE=DURATION:P1D
ACTION:DISPLAY
DESCRIPTION:Karfreitag-Gottesdienst
END:VALARM
END:VEVENT
END:VCALENDAR
