BEGIN:VCALENDAR
VERSION:2.0
PRODID:-//Sabre//Sabre VObject 4.1.6//EN
CALSCALE:GREGORIAN
BEGIN:VEVENT
UID:sabre-vobject-4524cc92-3fee-45fa-8cfe-ff46ef6f427b
DTSTAMP:20260419T161712Z
SUMMARY:Karfreitag
DTSTART;TZID=Europe/Berlin:20260403T100000
ORGANIZER;CN=Ev.-Luth. Kirchengemeinde Heiligengeist in Kiel:MAILTO:info@he
 iligengeist-kiel.de
LOCATION:Pauluskirche Kiel\, Niemannsweg 16\, Kiel
GEO:54.333933;10.145111
DESCRIPTION:Predigtgottesdienst zum Karfreitag
BEGIN:VALARM
TRIGGER;VALUE=DURATION:P1D
ACTION:DISPLAY
DESCRIPTION:Karfreitag
END:VALARM
END:VEVENT
END:VCALENDAR
