BEGIN:VCALENDAR
VERSION:2.0
PRODID:-//Sabre//Sabre VObject 4.1.6//EN
CALSCALE:GREGORIAN
BEGIN:VEVENT
UID:sabre-vobject-3da096b2-d731-4f12-bfd4-05630d5af9e1
DTSTAMP:20260419T162055Z
SUMMARY:Jugendgruppe
DTSTART;TZID=Europe/Berlin:20260417T170000
DTEND;TZID=Europe/Berlin:20260417T200000
ORGANIZER;CN=Ev.-Luth. Friedensgemeinde Kiel:MAILTO:info@fg-kiel.de
LOCATION:Jugendraum\, Zastrowstr. (neben der Vicelinkirche)\, Kiel
GEO:54.320169;10.116268
DESCRIPTION:\nJugendgruppeWir haben uns neu aufgestellt und bieten euch etw
 as anderes an!Alle zwischen 10 und 17 Jahren sind herzlich zu unserer Juge
 ndgruppe eingeladen!17 - 20 Uhr mit Snacks !Wir sind kreativ\, kochen\, sp
 ielen und schnacken miteinander!
BEGIN:VALARM
TRIGGER;VALUE=DURATION:P1D
ACTION:DISPLAY
DESCRIPTION:Jugendgruppe
END:VALARM
END:VEVENT
END:VCALENDAR
