BEGIN:VCALENDAR
VERSION:2.0
PRODID:-//Sabre//Sabre VObject 4.1.6//EN
CALSCALE:GREGORIAN
BEGIN:VEVENT
UID:sabre-vobject-a6fe1662-84b9-4153-91ae-e82a154bd51e
DTSTAMP:20260419T162610Z
SUMMARY:Jan Philipp Zymny: Illegale Straßentherapie
DTSTART;TZID=Europe/Berlin:20260423T200000
ORGANIZER;CN="Landeshauptstadt Kiel, Amt für Kultur und Weiterbildung":MAI
 LTO:veranstaltungen@kiel.de
LOCATION:KulturForum Kiel\, Andreas-Gayk-Straße 31\, Kiel (Mitte)
GEO:54.3192084;10.1357235
DESCRIPTION:„Illegale Straßentherapie“ ist das neue Comedyprogramm von
  Jan Philipp Zymny und genau das Richtige für Sie\, wenn Sie das Besonder
 e schätzen.\n„Illegale Straßentherapie“ ist das neue Comedyprogramm 
 von Jan Philipp Zymny und genau das Richtige für Sie\, wenn Sie das Beson
 dere schätzen. Sie finden keinen Therapieplatz? Alle Wartelisten sind ges
 chlossen? Jan Philipp Zymnys neues abendfüllendes Programm macht Ihre Lag
 e auch nicht schlechter. Seien Sie dabei\, danach haben Sie zwar immer noc
 h keinen Therapieplatz\, aber Sie hatten wenigstens einen schönen Abend. 
 \nMit tiefgründiger Ironie präsentiert Zymny einen Abend\, der nicht nur
  unterhält\, sondern auch den Verstand herausfordert. Erleben Sie\, wie e
 r mit seinem feinen Gespür für das Absurde die Realität zerpflückt. \n
 Ein Abend für alle\, denen gewöhnliche Comedy zu doof\, Philosophie zu a
 nstrengend und die Realität zu langweilig ist.\nVeranstalter: Björn Hög
 sdal
BEGIN:VALARM
TRIGGER;VALUE=DURATION:P1D
ACTION:DISPLAY
DESCRIPTION:Jan Philipp Zymny: Illegale Straßentherapie
END:VALARM
END:VEVENT
END:VCALENDAR
