BEGIN:VCALENDAR
VERSION:2.0
PRODID:-//Sabre//Sabre VObject 4.1.6//EN
CALSCALE:GREGORIAN
BEGIN:VEVENT
UID:sabre-vobject-12c802b0-ace2-49d5-bced-3450bc77c742
DTSTAMP:20260419T162608Z
SUMMARY:Improtheater Szenenexpress: Lachmuskelkatergarantieversprechen
DTSTART;TZID=Europe/Berlin:20260407T200000
ORGANIZER;CN=Hansastrasse 48 e.V.:MAILTO:info@hansa48.de
LOCATION:Hansa 48 - Saal\, Hansastraße 48\, Kiel (Ravensberg - Brunswik - 
 Düsternbrook)
GEO:54.3352552;10.1273732
DESCRIPTION:\nOstern ist vorbei! Die Auferstehung ist vollbracht! Der Szene
 nexpress kommt wieder zurück aus der Winterzeit direkt in den Frühling u
 nd feiert mit euch alles\, was man nur so feiern kann an nur einem Abend! 
 Geburtstag\, Ostern und Weihnachten zusammen!\nDas wird ein Fest! Das wird
  eine Freude!\n\nDer Szenenexpress bietet euch Improtheater vom Feinsten. 
 Das Publikum darf mitmachen\, mitlachen\, mitteilen oder einfach Spaß hab
 en. Das\, was reingeworfen wird\, wird in wunderbare Szenen verwandelt.\nW
 ir haben Bock! Ihr auch? Dann seid dabei! \nHolt euch eine Feta-Flöte und
  ein Getränk aus der Bar und ab fährt der Szenenexpress!\n\nEintritt: 15
 \,- / erm. 10\,- (Reservierungen unter info@hansa48.de)
BEGIN:VALARM
TRIGGER;VALUE=DURATION:P1D
ACTION:DISPLAY
DESCRIPTION:Improtheater Szenenexpress: Lachmuskelkatergarantieversprechen
END:VALARM
END:VEVENT
END:VCALENDAR
