BEGIN:VCALENDAR
VERSION:2.0
PRODID:-//Sabre//Sabre VObject 4.1.6//EN
CALSCALE:GREGORIAN
BEGIN:VEVENT
UID:sabre-vobject-b2a67e4b-7cda-467f-9456-61a7443d8741
DTSTAMP:20260419T162054Z
SUMMARY:Heimgottesdienst
DTSTART;TZID=Europe/Berlin:20260416T093000
ORGANIZER;CN=Ev.-Luth. Paul-Gerhardt-Kirchengemeinde Kiel-Neumühlen-Dietri
 chsdorf:MAILTO:info@pgg-kiel.de
LOCATION:AWO-Servicehaus Boksberg\, Boksberg 6\, Kiel
GEO:54.3318596;10.1839338
BEGIN:VALARM
TRIGGER;VALUE=DURATION:P1D
ACTION:DISPLAY
DESCRIPTION:Heimgottesdienst
END:VALARM
END:VEVENT
END:VCALENDAR
