BEGIN:VCALENDAR
VERSION:2.0
PRODID:-//Sabre//Sabre VObject 4.1.6//EN
CALSCALE:GREGORIAN
BEGIN:VEVENT
UID:sabre-vobject-4def171d-278c-4b2c-8786-7ede0d07a4bf
DTSTAMP:20260419T162609Z
SUMMARY:Heilig in den Tag - Abendmahl - 15 Minuten
DTSTART;TZID=Europe/Berlin:20260408T073000
ORGANIZER;CN=Ev.-Luth. Emmaus-Kirchengemeinde Kiel:MAILTO:kirchenbuero@emma
 us-kiel.de
LOCATION:Emmaus-Kirchengemeinde\, Holtenauer Straße 327\, Kiel
GEO:54.3576227;10.1298961
DESCRIPTION:Arbeitstage beginnen oft in enger zeitlicher Taktung\, eingeüb
 ten Abläufen und manchmal auch hektischem Aufbruch. Wie gut ist es da\, g
 emeinsam bewusst mit dem Blick auf Gottes Gegenwart in den Tag zu starten.
 ...\nArbeitstage beginnen oft in enger zeitlicher Taktung\, eingeübten Ab
 läufen und manchmal auch hektischem Aufbruch. Wie gut ist es da\, gemeins
 am bewusst mit dem Blick auf Gottes Gegenwart in den Tag zu starten. Wir f
 eiern immer am zweiten Mittwoch im Monat um 7:30 Uhr in der St. Lukaskirch
 e eine Abendmahlsliturgie ohne Predigt (ca. 15 Minuten). In der Konzentrat
 ion auf das Wesentliche\, auf das was uns trägt und Kraft gibt\, gehen wi
 r dann gestärkt und geistlich verbunden an die Aufgaben\, die auf uns war
 ten.
BEGIN:VALARM
TRIGGER;VALUE=DURATION:P1D
ACTION:DISPLAY
DESCRIPTION:Heilig in den Tag - Abendmahl - 15 Minuten
END:VALARM
END:VEVENT
END:VCALENDAR
